BEGIN:VCALENDAR
VERSION:2.0
PRODID:spatie/icalendar-generator
DESCRIPTION:Veranstaltungen von Grundschule Bestensee
X-WR-CALDESC:Veranstaltungen von Grundschule Bestensee
REFRESH-INTERVAL;VALUE=DURATION:PT1440M
X-PUBLISHED-TTL:PT1440M
BEGIN:VTIMEZONE
TZID:Etc/GMT+0
BEGIN:STANDARD
DTSTART:20220909T000000Z
TZOFFSETFROM:+0000
TZOFFSETTO:+0000
END:STANDARD
END:VTIMEZONE
BEGIN:VTIMEZONE
TZID:UTC
BEGIN:STANDARD
DTSTART:20250726T090008Z
TZOFFSETFROM:+0000
TZOFFSETTO:+0000
END:STANDARD
END:VTIMEZONE
BEGIN:VEVENT
UID:56-53
DTSTAMP:20260422T090008Z
SUMMARY:Orientierungsarbeit Mathe Klasse 4
LOCATION:Grundschule Bestensee Goethestraße 15  Bestensee Brandenburg 1574
 1
ORGANIZER;CN=Franziska Wagener:MAILTO:f.wagener@grundschulebestensee.de
DTSTART;TZID=Etc/GMT+0;VALUE=DATE:20230606
DTEND;TZID=Etc/GMT+0;VALUE=DATE:20230607
X-ALT-DESC;FMTTYPE=TEXT/HTML:
CATEGORIES:General
URL;VALUE=URI:https://gs-bestensee.de/mc-events/orientierungsarbeit-mathe-k
 lasse-4/
METHOD:PUBLISH
END:VEVENT
END:VCALENDAR